BEGIN:VCALENDAR
VERSION:2.0
PRODID:-//ChamberMaster//Event Calendar 2.0//EN
METHOD:PUBLISH
X-PUBLISHED-TTL:P3D
REFRESH-INTERVAL:P3D
CALSCALE:GREGORIAN
BEGIN:VEVENT
DTSTART:20221028T140000Z
DTEND:20221028T190000Z
X-MICROSOFT-CDO-ALLDAYEVENT:FALSE
SUMMARY:Blood Drive
DESCRIPTION:We hope that you can join Mueller Sports Medicine\, Schwarz Insurance\, and the Sauk Prairie Area Chamber of Commerce for our blood drive on Friday\, 28 October 2022.  Please see the attached donor information for details related to the drive and location\, and the flyer from the Red Cross denoting times and special treats   no tricks this Halloween!  \n\n \n\nTo schedule your appointment\, please click on the link below\, and then click "See Times" to choose your donation slot.  By using the link you have full control of your appointment allowing you to choose\, change\, and cancel if necessary.  If you prefer assistance scheduling\, please call Sharon Barrett at 608-643-8530 anytime between 7 a.m. and 4 p.m.\, Monday-Friday.\n\n \n\nhttps://www.redcrossblood.org/give.html/drive-results?zipSponsor=Mueller
X-ALT-DESC;FMTTYPE=text/html:<span style="font-family:segoe ui\,sans-serif\;"><span style="font-size:10.0pt\;">We hope that you can join Mueller Sports Medicine\, Schwarz Insurance\, and the Sauk Prairie Area Chamber of Commerce for our blood drive on Friday\, 28 October 2022.&nbsp\; Please see the attached donor information for details related to the drive and location\, and the flyer from the Red Cross denoting times and special treats &ndash\; no tricks this Halloween!&nbsp\; </span></span><br />\n&nbsp\;<br />\n<span style="font-family:segoe ui\,sans-serif\;"><span style="font-size:10.0pt\;">To schedule your appointment\, please click on the link below\, and then click &ldquo\;See Times&rdquo\; to choose your donation slot.&nbsp\; By using the link you have full control of your appointment allowing you to choose\, change\, and cancel if necessary.&nbsp\; If you prefer assistance scheduling\, please call Sharon Barrett at 608-643-8530 anytime between 7 a.m. and 4 p.m.\, Monday-Friday.</span></span><br />\n&nbsp\;<br />\n<span style="font-family:segoe ui\,sans-serif\;"><span style="font-size:10.0pt\;"><a href="https://www.redcrossblood.org/give.html/drive-results?zipSponsor=Mueller">https://www.redcrossblood.org/give.html/drive-results?zipSponsor=Mueller</a></span></span>
LOCATION:Mueller Sports Medicine\, Manufacturing Room\, One Quench Drive
UID:e.1184.28774
SEQUENCE:3
DTSTAMP:20260421T033115Z
URL:http://members.saukprairie.com/events/details/blood-drive-28774
END:VEVENT

END:VCALENDAR
