BEGIN:VCALENDAR
VERSION:2.0
PRODID:-//ChamberMaster//Event Calendar 2.0//EN
METHOD:PUBLISH
X-PUBLISHED-TTL:P3D
REFRESH-INTERVAL:P3D
CALSCALE:GREGORIAN
BEGIN:VEVENT
DTSTART:20230228T150000Z
DTEND:20230228T200000Z
X-MICROSOFT-CDO-ALLDAYEVENT:FALSE
SUMMARY:Blood Drive
DESCRIPTION:Mueller Sports Medicine and the American Red Cross are hosting an upcoming blood drive.\n\nPlease join our lifesaving mission and schedule an appointment today!\n\n\n\nDrive Details:\n\nSite: Mueller Sports Medicine Building 3\n\nAddress: One Quench Dr\, Prairie du Sac\, WI\, 53578\n\nRoom Name: Manufacturing Room\n\nDate: Tue Feb 28\, 2023\n\nTime: 09:00 AM - 02:00 PM\n\nBlood Program Leader Name: Sharon Barrett\n\nBlood Program Leader Phone Number: 6086438530\n\n\n\nClick here to make an appointment\n\n\n\nThe need for blood is constant and only volunteer donors can fulfill that need for patients in our community. Nationwide\, someone needs a unit of blood every 2 to 3 seconds and most of us will need blood in our lifetime.\n\n\n\nThank you for supporting the American Red Cross blood program!
X-ALT-DESC;FMTTYPE=text/html:Mueller Sports Medicine and the American Red Cross are hosting an upcoming blood drive.<br />\nPlease join our lifesaving mission and schedule an appointment today!<br />\n<br />\n<strong><span style="color:red\;">Drive Details:</span></strong><br />\n<strong>Site: </strong>Mueller Sports Medicine Building 3<br />\n<strong>Address: </strong>One Quench Dr\, Prairie du Sac\, WI\, 53578<br />\n<strong>Room Name: </strong>Manufacturing Room<br />\n<strong>Date: </strong>Tue Feb 28\, 2023<br />\n<strong>Time: </strong>09:00 AM - 02:00 PM<br />\n<strong>Blood Program Leader Name: </strong>Sharon Barrett<br />\n<strong>Blood Program Leader Phone Number: </strong>6086438530<br />\n<br />\n<span style="font-size:10.0pt\;"><a href="https://www.redcrossblood.org/give.html/drive-results?zipSponsor=Mueller&amp\;cid=siebel&amp\;med=email&amp\;source=bdc_email&amp\;utm_source=siebel&amp\;utm_medium=email&amp\;utm_campaign=bdc_email"><span style="color:blue\;">Click here to make an appointment</span></a></span><br />\n<br />\nThe need for blood is constant and only volunteer donors can fulfill that need for patients in our community. Nationwide\, someone needs a unit of blood every 2 to 3 seconds and most of us will need blood in our lifetime.<br />\n<br />\nThank you for supporting the American Red Cross blood program!
LOCATION:Mueller Sports Medicine\, Manufacturing Room\, One Quench Drive
UID:e.1184.29929
SEQUENCE:3
DTSTAMP:20260420T180346Z
URL:http://members.saukprairie.com/events/details/blood-drive-29929
END:VEVENT

END:VCALENDAR
