BEGIN:VCALENDAR
VERSION:2.0
PRODID:-//ChamberMaster//Event Calendar 2.0//EN
METHOD:PUBLISH
X-PUBLISHED-TTL:P3D
REFRESH-INTERVAL:P3D
CALSCALE:GREGORIAN
BEGIN:VEVENT
DTSTART:20230918T170000Z
DTEND:20230918T223000Z
X-MICROSOFT-CDO-ALLDAYEVENT:FALSE
SUMMARY:Blood Drive
DESCRIPTION:Donate Blood. Help Save Lives.\n\n\n\nSponsored by Friends of Sauk Prairie Healthcare.\n\n\n\nFor an appointment call 1-800-RED CROSS (1-800-733-2767) or visit RedCrossBlood.org and enter Sponsor Code: SaukPrairie\n\n\n\nYou can save up to 15 minutes when you donate blood by using Rapid Pass! Visit RedCrossBlood.org/RapidPass for more information.
X-ALT-DESC;FMTTYPE=text/html:Donate Blood. Help Save Lives.<br />\n<br />\nSponsored by Friends of Sauk Prairie Healthcare.<br />\n<br />\nFor an appointment call 1-800-RED CROSS (1-800-733-2767) or visit RedCrossBlood.org and enter Sponsor Code: SaukPrairie<br />\n<br />\nYou can save up to 15 minutes when you donate blood by using Rapid Pass! Visit RedCrossBlood.org/RapidPass for more information.
LOCATION:St. John's Lutheran Church 100 Oak St. Prairie du Sac\, WI 53578
UID:e.1184.30979
SEQUENCE:3
DTSTAMP:20260420T074640Z
URL:http://members.saukprairie.com/events/details/blood-drive-30979
END:VEVENT

END:VCALENDAR
