BEGIN:VCALENDAR
VERSION:2.0
PRODID:-//ChamberMaster//Event Calendar 2.0//EN
METHOD:PUBLISH
X-PUBLISHED-TTL:P3D
REFRESH-INTERVAL:P3D
CALSCALE:GREGORIAN
BEGIN:VEVENT
DTSTART:20240813T140000Z
DTEND:20240813T190000Z
X-MICROSOFT-CDO-ALLDAYEVENT:FALSE
SUMMARY:Blood Drive
DESCRIPTION:Mueller Sports Medicine\, Schwarz Insurance\, Sauk Prairie Area Chamber of Commerce and the American Red Cross are hosting an upcoming blood drive.\n\n\n\nAll presenting donors in August get a free Culver's Custard pint\, and if your email is registered with the Red Cross\, a $20 Amazon gift card! \n\nPlease join our lifesaving mission and schedule an appointment today!  You can click below to schedule your preferred donation time\, or call Sharon Barrett at 608-643-8530 for assistance in booking.\n\nDrive Details:\n\nSite: Mueller Sports Medicine Building 3\n\nAddress: One Quench Dr\, Prairie du Sac\, WI\, 53578\n\nRoom Name: Manufacturing Room\n\nDate: Tue August 13\, 2024\n\nTime: 09:00 AM - 02:00 PM\n\nBlood Program Leader Name: Sharon Barrett\n\nBlood Program Leader Phone Number: 6086438530\n\nClick here to make an appointment\n\nThe need for blood is constant and only volunteer donors can fulfill that need for patients in our community. Nationwide\, someone needs a unit of blood every 2 to 3 seconds and most of us will need blood in our lifetime.\n\nThank you for supporting the American Red Cross blood program!\n\nDownload the Red Cross Blood Donor App on the App Store\, Google Play or text BLOODAPP to 90999. Schedule appointments\, view your blood type and results of your mini-physical\, and track your donations.
X-ALT-DESC;FMTTYPE=text/html:<p>Mueller Sports Medicine\, Schwarz Insurance\, Sauk Prairie Area Chamber of Commerce&nbsp\;and the American Red Cross are hosting an upcoming blood drive.<br />\n<br />\nAll presenting donors in August get a free Culver&rsquo\;s Custard pint\, and if your email is registered with the Red Cross\, a $20 Amazon gift card!&nbsp\;</p>\n\n<p>Please join our lifesaving mission and schedule an appointment today!&nbsp\; You can click below to schedule your preferred donation time\, or call Sharon Barrett at 608-643-8530 for assistance in booking.<o:p></o:p></p>\n\n<p><b><span style="color:red">Drive Details:</span></b><br />\n<b>Site: </b>Mueller Sports Medicine Building 3<br />\n<b>Address: </b>One Quench Dr\, Prairie du Sac\, WI\, 53578<br />\n<b>Room Name: </b>Manufacturing Room<br />\n<b>Date: </b>Tue August 13\, 2024<br />\n<b>Time: </b>09:00 AM - 02:00 PM<br />\n<b>Blood Program Leader Name: </b>Sharon Barrett<br />\n<b>Blood Program Leader Phone Number: </b>6086438530<br />\n<u><strong><span style="font-size:10.0pt"><a href="https://www.redcrossblood.org/give.html/drive-results?zipSponsor=Mueller&amp\;cid=siebel&amp\;med=email&amp\;source=bdc_email&amp\;utm_source=siebel&amp\;utm_medium=email&amp\;utm_campaign=bdc_email"><span style="color:#FF0000\;">Click here to make an appointment</span></a></span></strong></u></p>\n\n<p>The need for blood is constant and only volunteer donors can fulfill that need for patients in our community. Nationwide\, someone needs a unit of blood every 2 to 3 seconds and most of us will need blood in our lifetime.</p>\n\n<p>Thank you for supporting the American Red Cross blood program!</p>\n\n<p>Download the Red Cross Blood Donor App on the <a href="https://itunes.apple.com/gb/app/blood-donor-by-american-red/id911428916?mt=8">App Store</a>\, <a href="https://play.google.com/store/apps/details?id=com.cube.arc.blood">Google Play</a> or text BLOODAPP to 90999. Schedule appointments\, view your blood type and results of your mini-physical\, and track your donations.</p>\n
LOCATION:Mueller Sports Medicine Building 3
UID:e.1184.32886
SEQUENCE:3
DTSTAMP:20260419T163154Z
URL:http://members.saukprairie.com/events/details/blood-drive-32886
END:VEVENT

END:VCALENDAR
