BEGIN:VCALENDAR
VERSION:2.0
PRODID:-//ChamberMaster//Event Calendar 2.0//EN
METHOD:PUBLISH
X-PUBLISHED-TTL:P3D
REFRESH-INTERVAL:P3D
CALSCALE:GREGORIAN
BEGIN:VEVENT
DTSTART:20180103T160000Z
DTEND:20180103T210000Z
X-MICROSOFT-CDO-ALLDAYEVENT:FALSE
SUMMARY:Blood Drive at Bank of Prairie du Sac
DESCRIPTION:Blood Drive for the American Red Cross\, hosted by Bank of Prairie du Sac\n\n\n\nWednesday\, January 3\, 2018\n\n10:00 a.m. to 3:00 p.m.\n\n\n\nAppointments preferred\, walk-ins welcome!\n\n\n\nFor an appointment call 1-800-RED CROSS (1-800-733-2767) or visit redcrossblood.org\n\n\n\nYou can save up to 15 minutes when you donate blood by using RapidPass! Visit redcrossblood.org/RapidPass for more information.\n\n\n\n\n\nBank of Prairie du Sac\, Member FDIC
X-ALT-DESC;FMTTYPE=text/html:Blood Drive for the American Red Cross\, hosted by Bank of Prairie du Sac<br />\n<br />\nWednesday\, January 3\, 2018<br />\n10:00 a.m. to 3:00 p.m.<br />\n<br />\nAppointments preferred\, walk-ins welcome!<br />\n<br />\nFor an appointment call 1-800-RED CROSS (1-800-733-2767) or visit redcrossblood.org<br />\n<br />\nYou can save up to 15 minutes when you donate blood by using RapidPass! Visit redcrossblood.org/RapidPass for more information.<br />\n<br />\n<br />\nBank of Prairie du Sac\, Member FDIC
LOCATION:Bank of Prairie du Sac Training Center 280 Washington Street Prairie du Sac\, WI 53578
UID:e.1184.14610
SEQUENCE:3
DTSTAMP:20260424T192544Z
URL:http://members.saukprairie.com/events/details/blood-drive-at-bank-of-prairie-du-sac-14610
END:VEVENT

END:VCALENDAR
