BEGIN:VCALENDAR
VERSION:2.0
PRODID:-//ChamberMaster//Event Calendar 2.0//EN
METHOD:PUBLISH
X-PUBLISHED-TTL:P3D
REFRESH-INTERVAL:P3D
CALSCALE:GREGORIAN
BEGIN:VEVENT
DTSTART:20180605T150000Z
DTEND:20180605T200000Z
X-MICROSOFT-CDO-ALLDAYEVENT:FALSE
SUMMARY:Blood Drive at Bank of Prairie du Sac
DESCRIPTION:Bank of Prairie du Sac will be hosting our second Red Cross Blood Drive on Tuesday\, June 5\, 10 am   3 pm!  The average donation takes about one hour from start to finish. Donors will be eligible for a $5 Amazon.com Gift Card via email\, courtesy of Suburban Propane. Bring along family\, friends or co-workers to join you.   First time donors are encouraged and appreciated. \n\n \n\nAppointments may be scheduled online at https://rdcrss.org/2xH2A8j
X-ALT-DESC;FMTTYPE=text/html:Bank of Prairie du Sac will be hosting our second <span style="color:#FF0000">Red Cross Blood Drive</span> on Tuesday\, June 5\, 10 am &ndash\; 3 pm!&nbsp\; The average donation takes about one hour from start to finish. Donors will be eligible for a <u>$5 Amazon.com Gift Card</u> via email\, courtesy of Suburban Propane. Bring along family\, friends or co-workers to join you.&nbsp\; &nbsp\;First time donors are encouraged and appreciated.&nbsp\;<br />\n&nbsp\;<br />\n<strong>Appointments may be scheduled online at <a href="https://rdcrss.org/2xH2A8j">https://rdcrss.org/2xH2A8j</a></strong>
LOCATION:Bank of Prairie du Sac Training Center 280 Washington Street Prairie du Sac\, WI 53578
UID:e.1184.18352
SEQUENCE:3
DTSTAMP:20260424T101244Z
URL:http://members.saukprairie.com/events/details/blood-drive-at-bank-of-prairie-du-sac-18352
END:VEVENT

END:VCALENDAR
