BEGIN:VCALENDAR
VERSION:2.0
PRODID:-//ChamberMaster//Event Calendar 2.0//EN
METHOD:PUBLISH
X-PUBLISHED-TTL:P3D
REFRESH-INTERVAL:P3D
CALSCALE:GREGORIAN
BEGIN:VEVENT
DTSTART:20221125T150000Z
DTEND:20221125T200000Z
X-MICROSOFT-CDO-ALLDAYEVENT:FALSE
SUMMARY:Blood Drive at River Hills
DESCRIPTION:Please join Sauk Prairie Healthcare for a blood drive in the community room of River Hills Community Church\, 1111 Sycamore St.\, Sauk City\, from 9 a.m.-2 p.m. on Friday\, Nov. 25. All blood types needed. Appointments are preferred. To make an appointment visit RedCrossBlood.org or call 1-800-RED-CROSS and enter Sponsor Code: SaukPrairieHealthcare. You can save up to 15 minutes when you donate blood by using RapidPass! Visit RedCrossBlood.org/RapidPass for more information.
X-ALT-DESC;FMTTYPE=text/html:Please join Sauk Prairie Healthcare for a blood drive in the community room of River Hills Community Church\, 1111 Sycamore St.\, Sauk City\, from 9 a.m.-2 p.m. on Friday\, Nov. 25. All blood types needed. Appointments are preferred. To make an appointment visit RedCrossBlood.org or call 1-800-RED-CROSS and enter Sponsor Code: SaukPrairieHealthcare. You can save up to 15 minutes when you donate blood by using RapidPass! Visit RedCrossBlood.org/RapidPass for more information.
LOCATION:River Hills Church\, 1111 Sycamore St.\, Sauk City
UID:e.1184.28766
SEQUENCE:3
DTSTAMP:20260421T033253Z
URL:http://members.saukprairie.com/events/details/blood-drive-at-river-hills-28766
END:VEVENT

END:VCALENDAR
