BEGIN:VCALENDAR
VERSION:2.0
PRODID:-//ChamberMaster//Event Calendar 2.0//EN
METHOD:PUBLISH
X-PUBLISHED-TTL:P3D
REFRESH-INTERVAL:P3D
CALSCALE:GREGORIAN
BEGIN:VEVENT
DTSTART:20200204T153000Z
DTEND:20200204T203000Z
X-MICROSOFT-CDO-ALLDAYEVENT:FALSE
SUMMARY:Blood Drive at UW Platteville Baraboo Sauk County
DESCRIPTION:Appointments preferred\; Walk-ins welcome!\n\nFor appointments\, call 1-800-RED-CROSS\n\nor visit redcrossblood.org\n\nSponsored by UW Platteville Baraboo Sauk County Student Government Association.  \n\nCome to the Lange Center Gym\, lower level
X-ALT-DESC;FMTTYPE=text/html:<span style="color:black"><span style="font-family:source sans pro\,sans-serif">Appointments preferred\; Walk-ins welcome!</span></span><br />\n<span style="color:black"><span style="font-family:source sans pro\,sans-serif">For appointments\, call 1-800-RED-CROSS</span></span><br />\n<span style="color:black"><span style="font-family:source sans pro\,sans-serif">or visit&nbsp\;<a href="https://uwplatt.campuslabs.com/engage/submitter/organization/SGABaraboo/eventsubmission/redcrossblood.org" target="_blank">redcrossblood.org</a></span></span><br />\n<span style="color:black"><span style="font-family:source sans pro\,sans-serif">Sponsored by UW Platteville Baraboo Sauk County Student Government Association.&nbsp\;&nbsp\;</span></span><br />\n<span style="color:black"><span style="font-family:source sans pro\,sans-serif">Come to the Lange Center Gym\, lower level</span></span>
LOCATION:Gym\, Lange Center at the UW Platteville Baraboo Sauk County Campus
UID:e.1184.24017
SEQUENCE:3
DTSTAMP:20260423T041524Z
URL:http://members.saukprairie.com/events/details/blood-drive-at-uw-platteville-baraboo-sauk-county-24017
END:VEVENT

END:VCALENDAR
