BEGIN:VCALENDAR
VERSION:2.0
PRODID:-//ChamberMaster//Event Calendar 2.0//EN
METHOD:PUBLISH
X-PUBLISHED-TTL:P3D
REFRESH-INTERVAL:P3D
CALSCALE:GREGORIAN
BEGIN:VEVENT
DTSTART:20170806T000000Z
DTEND:20170806T030000Z
X-MICROSOFT-CDO-ALLDAYEVENT:FALSE
SUMMARY:Bluegrass Concert
DESCRIPTION:Enjoy live music at the open air concert at 7pm. Bring your lawn chair or blanket and your favorite drinks. Food and refreshments will be available for purchase. Free event - donations warmly welcomed.
X-ALT-DESC;FMTTYPE=text/html:Enjoy live music at the open air concert at 7pm. Bring your lawn chair or blanket and your favorite drinks. Food and refreshments will be available for purchase. Free event - donations warmly welcomed.&nbsp\;
LOCATION:Durward's Glen W11876 McLeisch Road Baraboo WI 53913
UID:e.1184.11631
SEQUENCE:3
DTSTAMP:20260425T014521Z
URL:http://members.saukprairie.com/events/details/bluegrass-concert-11631
END:VEVENT

END:VCALENDAR
