BEGIN:VCALENDAR
VERSION:2.0
PRODID:-//ChamberMaster//Event Calendar 2.0//EN
METHOD:PUBLISH
X-PUBLISHED-TTL:P3D
REFRESH-INTERVAL:P3D
CALSCALE:GREGORIAN
BEGIN:VEVENT
DTSTART:20230826T150000Z
DTEND:20230826T160000Z
X-MICROSOFT-CDO-ALLDAYEVENT:FALSE
SUMMARY:Bluey Party
DESCRIPTION:Celebrate your favorite Blue Heeler family! Make a set of Bluey ears to wear\, play Bluey-themed games and get your photo taken in our Bluey photo booth. Registration is required.\n\nIf you're unable to attend our program\, consider the Ruth Culver Community Library's program on Friday\, August 25 at 10am.
X-ALT-DESC;FMTTYPE=text/html:Celebrate your favorite Blue Heeler family! Make a set of Bluey ears to wear\, play Bluey-themed games and get your photo taken in our Bluey photo booth. Registration is required.<br />\nIf you&rsquo\;re unable to attend our program\, consider the Ruth Culver Community Library&rsquo\;s program on Friday\, August 25 at 10am.
LOCATION:615 Phillips Blvd. Sauk City\, WI 53583
UID:e.1184.30921
SEQUENCE:3
DTSTAMP:20260420T091439Z
URL:http://members.saukprairie.com/events/details/bluey-party-30921
END:VEVENT

END:VCALENDAR
