BEGIN:VCALENDAR
VERSION:2.0
PRODID:-//ChamberMaster//Event Calendar 2.0//EN
METHOD:PUBLISH
X-PUBLISHED-TTL:P3D
REFRESH-INTERVAL:P3D
CALSCALE:GREGORIAN
BEGIN:VEVENT
DTSTART:20181130T010000Z
DTEND:20181130T030000Z
X-MICROSOFT-CDO-ALLDAYEVENT:FALSE
SUMMARY:Bojo Duo
DESCRIPTION:Join The Bojo Duo for a night of free music and tasty drinks! Show starts at 8pm!\n\n\n\nBoJo's Mojo is a band from central Wisconsin\, playing music that all crowds will enjoy. A wide variety of influences and genres can be heard in the original material. Our long but engaging songs can be attributed to our love of musical masterpieces by such greats as The Allman Brothers and The Grateful Dead and our strong passion for music & song chemistry. From blues to rock and folk to reggae\, each member brings an experience with a unique and enjoyable style to the group. Already making appearances at some well known venues in Wisconsin and beyond\, the band is looking to grow their fan base and share their music. Most importantly they have a great time doing it. Separately each band member is a skilled musician but combined the chemistry is undeniable.\n\n\n\nLINKS\n\n\n\nhttps://www.facebook.com/bojosmojo/\n\n\n\nhttps://www.youtube.com/watch?v=0tWYWYoWWcc&list=PLKb4uyMreSx4rIPj_BTFEpc6a_6-bsrPd
X-ALT-DESC;FMTTYPE=text/html:<span style="color: rgb(29\, 33\, 41)\; font-family: Helvetica\, Arial\, sans-serif\; font-size: 14px\;">Join The Bojo Duo for a night of free music and tasty drinks! Show starts at 8pm!</span><br style="color: rgb(29\, 33\, 41)\; font-family: Helvetica\, Arial\, sans-serif\; font-size: 14px\;" />\n<br style="color: rgb(29\, 33\, 41)\; font-family: Helvetica\, Arial\, sans-serif\; font-size: 14px\;" />\n<span style="color: rgb(29\, 33\, 41)\; font-family: Helvetica\, Arial\, sans-serif\; font-size: 14px\;">BoJo&rsquo\;s Mojo is a band from central Wisconsin\, playing music that all crowds will enjoy. A wide variety of influences and genres can be heard in the original material. Our long but engaging songs can be attributed to our love of musical masterpieces by such greats as The Allman Brothers and The Grateful Dead and our strong passion for music &amp\; song chemistry. From blues to rock and folk to reggae\, each member brings an experience with a unique and enjoyable style to the group. Already making appearances at some well known venues in Wisconsin and beyond\, the band is looking to grow their fan base and share their music. Most importantly they have a great time doing it. Separately each band member is a skilled musician but combined the chemistry is undeniable.</span><br style="color: rgb(29\, 33\, 41)\; font-family: Helvetica\, Arial\, sans-serif\; font-size: 14px\;" />\n<br style="color: rgb(29\, 33\, 41)\; font-family: Helvetica\, Arial\, sans-serif\; font-size: 14px\;" />\n<span style="color: rgb(29\, 33\, 41)\; font-family: Helvetica\, Arial\, sans-serif\; font-size: 14px\;">LINKS</span><br style="color: rgb(29\, 33\, 41)\; font-family: Helvetica\, Arial\, sans-serif\; font-size: 14px\;" />\n<br style="color: rgb(29\, 33\, 41)\; font-family: Helvetica\, Arial\, sans-serif\; font-size: 14px\;" />\n<a href="https://www.facebook.com/bojosmojo/" style="color: rgb(54\, 88\, 153)\; cursor: pointer\; text-decoration-line: none\; font-family: Helvetica\, Arial\, sans-serif\; font-size: 14px\;" target="_blank">https://www.facebook.com/bojosmojo/</a><br style="color: rgb(29\, 33\, 41)\; font-family: Helvetica\, Arial\, sans-serif\; font-size: 14px\;" />\n<br style="color: rgb(29\, 33\, 41)\; font-family: Helvetica\, Arial\, sans-serif\; font-size: 14px\;" />\n<a data-lynx-mode="hover" data-lynx-uri="https://l.facebook.com/l.php?u=https%3A%2F%2Fwww.youtube.com%2Fwatch%3Fv%3D0tWYWYoWWcc%26list%3DPLKb4uyMreSx4rIPj_BTFEpc6a_6-bsrPd%26fbclid%3DIwAR1A6Pdq7IQAmlYE1wqiVOQsXeYtnkaw7BydoBT82I2qBTd87lOVP33G0is&amp\;h=AT0vlrwh_eisE3O_GK4o7IQCui5MWXaPO6__UlkWhPSpC-C83kT5xhjDfGWW4D7c0Z0034UgILDA58W3S5Ch5AI8W0uPXmfAgajnDtdpU1tYUE2estysUj-99OxClSutdmE" href="https://www.youtube.com/watch?v=0tWYWYoWWcc&amp\;list=PLKb4uyMreSx4rIPj_BTFEpc6a_6-bsrPd&amp\;fbclid=IwAR1A6Pdq7IQAmlYE1wqiVOQsXeYtnkaw7BydoBT82I2qBTd87lOVP33G0is" rel="nofollow noopener" style="color: rgb(54\, 88\, 153)\; cursor: pointer\; text-decoration-line: none\; font-family: Helvetica\, Arial\, sans-serif\; font-size: 14px\;" target="_blank">https://www.youtube.com/watch?v=0tWYWYoWWcc&amp\;list=PLKb4uyMreSx4rIPj_BTFEpc6a_6-bsrPd</a>
LOCATION:Vintage Brewing Company 600 Water Street Sauk City
UID:e.1184.21490
SEQUENCE:3
DTSTAMP:20260424T033724Z
URL:http://members.saukprairie.com/events/details/bojo-duo-21490
END:VEVENT

END:VCALENDAR
