BEGIN:VCALENDAR
VERSION:2.0
PRODID:-//ChamberMaster//Event Calendar 2.0//EN
METHOD:PUBLISH
X-PUBLISHED-TTL:P3D
REFRESH-INTERVAL:P3D
CALSCALE:GREGORIAN
BEGIN:VEVENT
DTSTART:20180615T010000Z
DTEND:20180615T030000Z
X-MICROSOFT-CDO-ALLDAYEVENT:FALSE
SUMMARY:Bojo Duo at Vintage Brewing Co. Sauk Prairie
DESCRIPTION:Come listen to the Bojo Duo and enjoy a drink or two! Start time 8pm!\n\n\n\n\n\nBoJo's Mojo is a band from central Wisconsin\, playing music that all crowds will enjoy. A wide variety of influences and genres can be heard in the original material. Our long but engaging songs can be attributed to our love of musical masterpieces by such greats as The Allman Brothers and The Grateful Dead and our strong passion for music & song chemistry. From blues to rock and folk to reggae\, each member brings an experience with a unique and enjoyable style to the group. Already making appearances at some well known venues in Wisconsin and beyond\, the band is looking to grow their fan base and share their music. Most importantly they have a great time doing it. Separately each band member is a skilled musician but combined the chemistry is undeniable.
X-ALT-DESC;FMTTYPE=text/html:<span style="color: rgb(29\, 33\, 41)\; font-family: Helvetica\, Arial\, sans-serif\; font-size: 14px\;">Come listen to the Bojo Duo and enjoy a drink or two! Start time 8pm!</span><br style="color: rgb(29\, 33\, 41)\; font-family: Helvetica\, Arial\, sans-serif\; font-size: 14px\;" />\n<br style="color: rgb(29\, 33\, 41)\; font-family: Helvetica\, Arial\, sans-serif\; font-size: 14px\;" />\n<br style="color: rgb(29\, 33\, 41)\; font-family: Helvetica\, Arial\, sans-serif\; font-size: 14px\;" />\n<span style="color: rgb(29\, 33\, 41)\; font-family: Helvetica\, Arial\, sans-serif\; font-size: 14px\;">BoJo&rsquo\;s Mojo is a band from central Wisconsin\, playing music that all crowds will enjoy. A wide variety of influences and genres can be heard in the original material. Our long but engaging songs can be attributed to our love of musical masterpieces by such greats as The Allman Brothers and The Grateful Dead and our strong passion for music &amp\; song chemistry. From blues to rock and folk to reggae\, each member brings an experience with a unique and enjoyable style to the group. Already making appearances at some well known venues in Wisconsin and beyond\, the band is looking to grow their fan base and share their music. Most importantly they have a great time doing it. Separately each band member is a skilled musician but combined the chemistry is undeniable.</span>
LOCATION:Vintage Brewing Co. Sauk Prairie 600 Water Street Sauk City\, WI 53583
UID:e.1184.18372
SEQUENCE:3
DTSTAMP:20260424T101014Z
URL:http://members.saukprairie.com/events/details/bojo-duo-at-vintage-brewing-co-sauk-prairie-18372
END:VEVENT

END:VCALENDAR
