BEGIN:VCALENDAR
VERSION:2.0
PRODID:-//ChamberMaster//Event Calendar 2.0//EN
METHOD:PUBLISH
X-PUBLISHED-TTL:P3D
REFRESH-INTERVAL:P3D
CALSCALE:GREGORIAN
BEGIN:VEVENT
DTSTART:20230710T180000Z
DTEND:20230710T180000Z
X-MICROSOFT-CDO-ALLDAYEVENT:FALSE
SUMMARY:Boogie in the Barnyard
DESCRIPTION:Dance\, clap\, and laugh together for this fun musical program brought to us by John Duggleby in a chicken suit. John is a Wisconsin musician who performs both familiar and original tunes
X-ALT-DESC;FMTTYPE=text/html:<span style="color: rgb(5\, 5\, 5)\; font-family: &quot\;Segoe UI Historic&quot\;\, &quot\;Segoe UI&quot\;\, Helvetica\, Arial\, sans-serif\; font-size: 15px\;">Dance\, clap\, and laugh together for this fun musical program brought to us by John Duggleby in a chicken suit. John is a Wisconsin musician who performs both familiar and original tunes</span>
LOCATION:Ruth Culver Community Library (Prairie du Sac\, WI) 540 Water St\, Prairie du Sac
UID:e.1184.30892
SEQUENCE:3
DTSTAMP:20260420T102202Z
URL:http://members.saukprairie.com/events/details/boogie-in-the-barnyard-30892
END:VEVENT

END:VCALENDAR
