BEGIN:VCALENDAR
VERSION:2.0
PRODID:-//ChamberMaster//Event Calendar 2.0//EN
METHOD:PUBLISH
X-PUBLISHED-TTL:P3D
REFRESH-INTERVAL:P3D
CALSCALE:GREGORIAN
BEGIN:VEVENT
DTSTART:20200404T140000Z
DTEND:20200404T190000Z
X-MICROSOFT-CDO-ALLDAYEVENT:FALSE
SUMMARY:Book and Bake Sale
DESCRIPTION:The Friends of the Library are hosting a book and bake sale on Friday\, April 3 and Saturday\, April 4. Books from the book sale will be available for sale at $1 a bag. Baked goods will also be sold. All proceeds will support the George Culver Community Library\, opening summer 2020.\n\n\n\nFriday\, April 3\, 9:00 am - 5:30 pm\n\nSaturday\, April 4\, 9:00 am - 2:00 pm\n\n\n\nIf you'd like bring a baked good or help with the sale visit us at the library or give us a call at 608-643-8346.
X-ALT-DESC;FMTTYPE=text/html:<span style="font-family:arial\; font-size:11pt">The Friends of the Library are hosting a book and bake sale on Friday\, April 3 and Saturday\, April 4. Books from the book sale will be available for sale at $1 a bag. Baked goods will also be sold. All proceeds will support the George Culver Community Library\, opening summer 2020.<br />\n<br />\nFriday\, April 3\, 9:00 am - 5:30 pm<br />\nSaturday\, April 4\, 9:00 am - 2:00 pm<br />\n<br />\nIf you&#39\;d like bring a baked good or help with the sale visit us at the library or give us a call at 608-643-8346.</span>
LOCATION:515 Water Street Sauk City\, WI 53583
UID:e.1184.24137
SEQUENCE:3
DTSTAMP:20260423T012101Z
URL:http://members.saukprairie.com/events/details/book-and-bake-sale-04-04-2020-24137
END:VEVENT

END:VCALENDAR
