BEGIN:VCALENDAR
VERSION:2.0
PRODID:-//ChamberMaster//Event Calendar 2.0//EN
METHOD:PUBLISH
X-PUBLISHED-TTL:P3D
REFRESH-INTERVAL:P3D
CALSCALE:GREGORIAN
BEGIN:VEVENT
DTSTART:20180716T230000Z
DTEND:20180717T004500Z
X-MICROSOFT-CDO-ALLDAYEVENT:FALSE
SUMMARY:Book Art
DESCRIPTION:Turn old books into fresh art with a variety of projects at the Ruth Culver Community Library Monday\, July 16 at 6:00 p.m.   All supplies will be provided.  This event is open to adults only and registration is required. Contact Charlene at 643-8318 with questions. Sponsored by the Friends of the Ruth Culver Community Library.
X-ALT-DESC;FMTTYPE=text/html:Turn old books into fresh art with a variety of projects at the Ruth Culver Community Library Monday\, July 16 at 6:00 p.m.&nbsp\;&nbsp\; All supplies will be provided.&nbsp\; This event is open to adults only and registration is required. Contact Charlene at 643-8318 with questions. Sponsored by the Friends of the Ruth Culver Community Library.
LOCATION:Ruth Culver Community Library 540 Water Street\, Prairie du Sac
UID:e.1184.18364
SEQUENCE:3
DTSTAMP:20260424T082418Z
URL:http://members.saukprairie.com/events/details/book-art-18364
END:VEVENT

END:VCALENDAR
