BEGIN:VCALENDAR
VERSION:2.0
PRODID:-//ChamberMaster//Event Calendar 2.0//EN
METHOD:PUBLISH
X-PUBLISHED-TTL:P3D
REFRESH-INTERVAL:P3D
CALSCALE:GREGORIAN
BEGIN:VEVENT
DTSTART:20240109T190000Z
DTEND:20240109T200000Z
X-MICROSOFT-CDO-ALLDAYEVENT:FALSE
SUMMARY:Book Club
DESCRIPTION:January's Pick: Little Faith by Nickolas Butler\n\nCopies of the book are available for check out at the library. The audiobook can also be downloaded from hoopla with your GCCL library card. The book club reads a variety of fiction and nonfiction. All are welcome.
X-ALT-DESC;FMTTYPE=text/html:January&rsquo\;s Pick: Little Faith by Nickolas Butler<br />\nCopies of the book are available for check out at the library. The audiobook can also be downloaded from <a href="https://hoopladigital.com/">hoopla</a> with your GCCL library card. The book club reads a variety of fiction and nonfiction. All are welcome.
LOCATION:615 Phillips Blvd. Sauk City\, WI 53583
UID:e.1184.31375
SEQUENCE:3
DTSTAMP:20260420T020400Z
URL:http://members.saukprairie.com/events/details/book-club-01-09-2024-31375
END:VEVENT

END:VCALENDAR
