BEGIN:VCALENDAR
VERSION:2.0
PRODID:-//ChamberMaster//Event Calendar 2.0//EN
METHOD:PUBLISH
X-PUBLISHED-TTL:P3D
REFRESH-INTERVAL:P3D
CALSCALE:GREGORIAN
BEGIN:VEVENT
DTSTART:20230110T190000Z
DTEND:20230110T200000Z
X-MICROSOFT-CDO-ALLDAYEVENT:FALSE
SUMMARY:Book Club
DESCRIPTION:This Month's Pick: Then She was Gone by Lisa Jewell\n\n\n\nCopies of the book are available for check out at the library. The audiobook is available for download at hoopladigital.com with your George Culver Community Library card. The book club reads a variety of fiction and nonfiction. All are welcome.
X-ALT-DESC;FMTTYPE=text/html:This Month&#39\;s Pick: Then She was Gone by Lisa Jewell<br />\n<br />\nCopies of the book are available for check out at the library. The audiobook is available for download at <a href="https://www.hoopladigital.com/title/12095403">hoopladigital.com</a> with your George Culver Community Library card. The book club reads a variety of fiction and nonfiction. All are welcome.
LOCATION:615 Phillips Blvd. Sauk City\, WI 53583
UID:e.1184.27075
SEQUENCE:3
DTSTAMP:20260420T232741Z
URL:http://members.saukprairie.com/events/details/book-club-01-10-2023-27075
END:VEVENT

END:VCALENDAR
