BEGIN:VCALENDAR
VERSION:2.0
PRODID:-//ChamberMaster//Event Calendar 2.0//EN
METHOD:PUBLISH
X-PUBLISHED-TTL:P3D
REFRESH-INTERVAL:P3D
CALSCALE:GREGORIAN
BEGIN:VEVENT
DTSTART:20210112T190000Z
DTEND:20210112T200000Z
X-MICROSOFT-CDO-ALLDAYEVENT:FALSE
SUMMARY:Book Club
DESCRIPTION:This month's read: The Weird Sisters by Eleanor Brown\n\n\n\nCopies of the book are available for check out in the library. The book club reads a variety of fiction and non-fiction. All are welcome.\n\nBook Club will be held over Zoom. For a link to the Zoom meeting email Emily at emily@saukcitylibrary.org.
X-ALT-DESC;FMTTYPE=text/html:<p>This month&#39\;s read: The Weird Sisters by Eleanor Brown<br />\n<br />\nCopies of the book are available for check out in the library. The book club reads a variety of fiction and non-fiction. All are welcome.<br />\nBook Club will be held over Zoom. For a link to the Zoom meeting email Emily at emily@saukcitylibrary.org.</p>\n
LOCATION:616 Phillips Blvd Sauk City\, WI 53583
UID:e.1184.26105
SEQUENCE:3
DTSTAMP:20260422T104428Z
URL:http://members.saukprairie.com/events/details/book-club-01-12-2021-26105
END:VEVENT

END:VCALENDAR
