BEGIN:VCALENDAR
VERSION:2.0
PRODID:-//ChamberMaster//Event Calendar 2.0//EN
METHOD:PUBLISH
X-PUBLISHED-TTL:P3D
REFRESH-INTERVAL:P3D
CALSCALE:GREGORIAN
BEGIN:VEVENT
DTSTART:20200908T180000Z
DTEND:20200908T190000Z
X-MICROSOFT-CDO-ALLDAYEVENT:FALSE
SUMMARY:Book Club
DESCRIPTION:This month's read: Good Kings Bad Kings by Susan Nussbaum\n\n\n\nCopies of the ebook and audiobook are available on Hoopla. Visit hoopladigital.com or download the app to get started. The book club reads a variety of fiction and non-fiction. All are welcome.\n\nBook Club will hopefully meet on the patio\, but the location may change. Contact Emily\, emily@saukcitylibrary.org or 608-643-8346\, for the latest information.
X-ALT-DESC;FMTTYPE=text/html:<p>This month&#39\;s read: Good Kings Bad Kings&nbsp\;by Susan Nussbaum<br />\n<br />\nCopies of the ebook and audiobook are available on Hoopla. Visit hoopladigital.com or download the app to get started. The book club reads a variety of fiction and non-fiction. All are welcome.<br />\nBook Club will hopefully meet on the patio\, but the location may change. Contact Emily\, emily@saukcitylibrary.org or 608-643-8346\, for the latest information.</p>\n
LOCATION:616 Phillips Blvd Sauk City\, WI 53583
UID:e.1184.23973
SEQUENCE:3
DTSTAMP:20260422T165414Z
URL:http://members.saukprairie.com/events/details/book-club-01-14-2020-23973
END:VEVENT

END:VCALENDAR
