BEGIN:VCALENDAR
VERSION:2.0
PRODID:-//ChamberMaster//Event Calendar 2.0//EN
METHOD:PUBLISH
X-PUBLISHED-TTL:P3D
REFRESH-INTERVAL:P3D
CALSCALE:GREGORIAN
BEGIN:VEVENT
DTSTART:20230214T190000Z
DTEND:20230214T200000Z
X-MICROSOFT-CDO-ALLDAYEVENT:FALSE
SUMMARY:Book Club
DESCRIPTION:February's Pick: The Postmistress of Paris by Meg Waite Clayton\n\nCopies of the book are available for check out at the library. The audiobook and ebook are available for download at hoopladigital.com with your George Culver Community Library card. The book club reads a variety of fiction and nonfiction. All are welcome.
X-ALT-DESC;FMTTYPE=text/html:February&rsquo\;s Pick: The Postmistress of Paris by Meg Waite Clayton<br />\nCopies of the book are available for check out at the library. The audiobook and ebook are available for download at <a href="https://www.hoopladigital.com/">hoopladigital.com</a> with your George Culver Community Library card. The book club reads a variety of fiction and nonfiction. All are welcome.
LOCATION:615 Phillips Blvd\, Sauk City\, WI 53583
UID:e.1184.28839
SEQUENCE:3
DTSTAMP:20260420T180530Z
URL:http://members.saukprairie.com/events/details/book-club-02-14-2023-28839
END:VEVENT

END:VCALENDAR
