BEGIN:VCALENDAR
VERSION:2.0
PRODID:-//ChamberMaster//Event Calendar 2.0//EN
METHOD:PUBLISH
X-PUBLISHED-TTL:P3D
REFRESH-INTERVAL:P3D
CALSCALE:GREGORIAN
BEGIN:VEVENT
DTSTART;VALUE=DATE:20250225
DTEND;VALUE=DATE:20250226
TRANSP:TRANSPARENT
X-MICROSOFT-CDO-ALLDAYEVENT:TRUE
SUMMARY:Book Club
DESCRIPTION:February's Pick: The Lincoln Highway by Amor Towles\n\nCopies of the book are available for check out at the library. The book club reads a variety of fiction and nonfiction. All are welcome.
X-ALT-DESC;FMTTYPE=text/html:<strong>February&rsquo\;s Pick</strong>: The Lincoln Highway by Amor Towles<br />\nCopies of the book are available for check out at the library.&nbsp\;The book club reads a variety of fiction and nonfiction. All are welcome.
LOCATION:George Culver Community Library - Sauk City
UID:e.1184.34657
SEQUENCE:3
DTSTAMP:20260419T121708Z
URL:http://members.saukprairie.com/events/details/book-club-02-27-2024-34657
END:VEVENT

END:VCALENDAR
