BEGIN:VCALENDAR
VERSION:2.0
PRODID:-//ChamberMaster//Event Calendar 2.0//EN
METHOD:PUBLISH
X-PUBLISHED-TTL:P3D
REFRESH-INTERVAL:P3D
CALSCALE:GREGORIAN
BEGIN:VEVENT
DTSTART:20230314T180000Z
DTEND:20230314T190000Z
X-MICROSOFT-CDO-ALLDAYEVENT:FALSE
SUMMARY:Book Club
DESCRIPTION:March's Pick: In Five Years by Rebecca Serle \n\nCopies of the book are available for check out at the library. The book club reads a variety of fiction and nonfiction. All are welcome.
X-ALT-DESC;FMTTYPE=text/html:March&rsquo\;s Pick: In Five Years by Rebecca Serle&nbsp\;<br />\nCopies of the book are available for check out at the library. The book club reads a variety of fiction and nonfiction. All are welcome.
LOCATION:615 Phillips Blvd\, Sauk City\, WI 53583
UID:e.1184.29344
SEQUENCE:3
DTSTAMP:20260420T165045Z
URL:http://members.saukprairie.com/events/details/book-club-03-14-2023-29344
END:VEVENT

END:VCALENDAR
