BEGIN:VCALENDAR
VERSION:2.0
PRODID:-//ChamberMaster//Event Calendar 2.0//EN
METHOD:PUBLISH
X-PUBLISHED-TTL:P3D
REFRESH-INTERVAL:P3D
CALSCALE:GREGORIAN
BEGIN:VEVENT
DTSTART:20220412T180000Z
DTEND:20220412T190000Z
X-MICROSOFT-CDO-ALLDAYEVENT:FALSE
SUMMARY:Book Club
DESCRIPTION:This Month's Pick: Transcendent Kingdom by Yaa Gyasi \n\n\n\nCopies of the book are available for check out at the library.\n\nThe book club reads a variety of fiction and non-fiction. All are welcome. Masks are required to attend.
X-ALT-DESC;FMTTYPE=text/html:This Month&#39\;s Pick:&nbsp\;Transcendent Kingdom by Yaa Gyasi&nbsp\;<br />\n<br />\nCopies of the book are available for check out at the library.<br />\nThe book club reads a variety of fiction and non-fiction. All are welcome. Masks are required to attend.<br />\n&nbsp\;
LOCATION:615 Phillips Blvd. Sauk City\, WI 53583
UID:e.1184.27066
SEQUENCE:3
DTSTAMP:20260421T134632Z
URL:http://members.saukprairie.com/events/details/book-club-04-12-2022-27066
END:VEVENT

END:VCALENDAR
