BEGIN:VCALENDAR
VERSION:2.0
PRODID:-//ChamberMaster//Event Calendar 2.0//EN
METHOD:PUBLISH
X-PUBLISHED-TTL:P3D
REFRESH-INTERVAL:P3D
CALSCALE:GREGORIAN
BEGIN:VEVENT
DTSTART:20230509T180000Z
DTEND:20230509T190000Z
X-MICROSOFT-CDO-ALLDAYEVENT:FALSE
SUMMARY:Book Club
DESCRIPTION:May's Pick: The Lost Girls of Paris by Pam Jenoff\n\nCopies of the book are available for check out at the library. The audiobook and ebook are also available for download at hoopladigital.com with your George Culver Community Library card. The book club reads a variety of fiction and nonfiction. All are welcome.
X-ALT-DESC;FMTTYPE=text/html:May&rsquo\;s Pick: The Lost Girls of Paris by Pam Jenoff<br />\nCopies of the book are available for check out at the library. The audiobook and ebook are also available for download at <a href="https://www.hoopladigital.com/">hoopladigital.com</a> with your George Culver Community Library card. The book club reads a variety of fiction and nonfiction. All are welcome.<br />\n&nbsp\;
LOCATION:615 Phillips Blvd\, Sauk City\, WI 53583
UID:e.1184.29346
SEQUENCE:3
DTSTAMP:20260420T132045Z
URL:http://members.saukprairie.com/events/details/book-club-05-09-2023-29346
END:VEVENT

END:VCALENDAR
