BEGIN:VCALENDAR
VERSION:2.0
PRODID:-//ChamberMaster//Event Calendar 2.0//EN
METHOD:PUBLISH
X-PUBLISHED-TTL:P3D
REFRESH-INTERVAL:P3D
CALSCALE:GREGORIAN
BEGIN:VEVENT
DTSTART:20240514T180000Z
DTEND:20240514T190000Z
X-MICROSOFT-CDO-ALLDAYEVENT:FALSE
SUMMARY:Book Club
DESCRIPTION:May's Pick: An Invisible Thread by Alex Tresniowski and Laura Schroff\n\nCopies of the book are available for check out at the library. The audiobook can also be downloaded from hoopla with your GCCL library card. The book club reads a variety of fiction and nonfiction. All are welcome.
X-ALT-DESC;FMTTYPE=text/html:May&rsquo\;s Pick: An Invisible Thread by Alex Tresniowski and Laura Schroff<br />\nCopies of the book are available for check out at the library. The audiobook can also be downloaded from <a href="https://www.hoopladigital.com/audiobook/an-invisible-thread-laura-schroff/12396168">hoopla</a> with your GCCL library card. The book club reads a variety of fiction and nonfiction. All are welcome.
LOCATION:615 Phillips Blvd. Sauk City\, WI 53583
UID:e.1184.31390
SEQUENCE:3
DTSTAMP:20260419T205026Z
URL:http://members.saukprairie.com/events/details/book-club-05-14-2024-31390
END:VEVENT

END:VCALENDAR
