BEGIN:VCALENDAR
VERSION:2.0
PRODID:-//ChamberMaster//Event Calendar 2.0//EN
METHOD:PUBLISH
X-PUBLISHED-TTL:P3D
REFRESH-INTERVAL:P3D
CALSCALE:GREGORIAN
BEGIN:VEVENT
DTSTART:20240611T180000Z
DTEND:20240611T190000Z
X-MICROSOFT-CDO-ALLDAYEVENT:FALSE
SUMMARY:Book Club
DESCRIPTION:June's Pick: Sea of Tranquility by Emily St. John Mandel\n\n\n\nCopies of the book are available for check out at the library. The book club reads a variety of fiction and nonfiction. All are welcome.
X-ALT-DESC;FMTTYPE=text/html:June&rsquo\;s Pick: Sea of Tranquility by Emily St. John Mandel<br />\n<br />\nCopies of the book are available for check out at the library. The book club reads a variety of fiction and nonfiction. All are welcome.
LOCATION:George Culver Community Library
UID:e.1184.31391
SEQUENCE:3
DTSTAMP:20260419T192029Z
URL:http://members.saukprairie.com/events/details/book-club-06-11-2024-31391
END:VEVENT

END:VCALENDAR
