BEGIN:VCALENDAR
VERSION:2.0
PRODID:-//ChamberMaster//Event Calendar 2.0//EN
METHOD:PUBLISH
X-PUBLISHED-TTL:P3D
REFRESH-INTERVAL:P3D
CALSCALE:GREGORIAN
BEGIN:VEVENT
DTSTART:20240709T180000Z
DTEND:20240709T190000Z
X-MICROSOFT-CDO-ALLDAYEVENT:FALSE
SUMMARY:Book Club
DESCRIPTION:July's Pick: Klara and the Sun by Kazuo Ishiguro\n\nCopies of the book are available for check out at the library. The book club reads a variety of fiction and nonfiction. All are welcome.
X-ALT-DESC;FMTTYPE=text/html:July&rsquo\;s Pick: Klara and the Sun by Kazuo Ishiguro<br />\nCopies of the book are available for check out at the library. The book club reads a variety of fiction and nonfiction. All are welcome.
LOCATION:615 Phillips Blvd. Sauk City\, WI 53583
UID:e.1184.31392
SEQUENCE:3
DTSTAMP:20260419T175501Z
URL:http://members.saukprairie.com/events/details/book-club-07-09-2024-31392
END:VEVENT

END:VCALENDAR
