BEGIN:VCALENDAR
VERSION:2.0
PRODID:-//ChamberMaster//Event Calendar 2.0//EN
METHOD:PUBLISH
X-PUBLISHED-TTL:P3D
REFRESH-INTERVAL:P3D
CALSCALE:GREGORIAN
BEGIN:VEVENT
DTSTART:20230912T180000Z
DTEND:20230912T190000Z
X-MICROSOFT-CDO-ALLDAYEVENT:FALSE
SUMMARY:Book Club
DESCRIPTION:September's Pick: The Dressmakers of Auschwitz by Lucy Adlington\n\nCopies of the book are available for check out at the library. The ebook and audiobook are also available at hoopladigital.com with your GCCL library card. The book club reads a variety of fiction and nonfiction. All are welcome.
X-ALT-DESC;FMTTYPE=text/html:September&rsquo\;s Pick: The Dressmakers of Auschwitz by Lucy Adlington<br />\nCopies of the book are available for check out at the library. The ebook and audiobook are also available at <a href="http://www.hoopladigital.com/">hoopladigital.com</a> with your GCCL library card. The book club reads a variety of fiction and nonfiction. All are welcome.
LOCATION:615 Phillips Blvd\, Sauk City\, WI 53583
UID:e.1184.29350
SEQUENCE:3
DTSTAMP:20260420T074726Z
URL:http://members.saukprairie.com/events/details/book-club-09-12-2023-29350
END:VEVENT

END:VCALENDAR
