BEGIN:VCALENDAR
VERSION:2.0
PRODID:-//ChamberMaster//Event Calendar 2.0//EN
METHOD:PUBLISH
X-PUBLISHED-TTL:P3D
REFRESH-INTERVAL:P3D
CALSCALE:GREGORIAN
BEGIN:VEVENT
DTSTART:20220913T180000Z
DTEND:20220913T190000Z
X-MICROSOFT-CDO-ALLDAYEVENT:FALSE
SUMMARY:Book Club
DESCRIPTION:September's Pick: The Lager Queen of Minnesota by J. Ryan Stradal\n\n\n\nCopies of the book are available for check out at the library. The book club reads a variety of fiction and non-fiction. All are welcome.
X-ALT-DESC;FMTTYPE=text/html:September&rsquo\;s Pick: The Lager Queen of Minnesota by J. Ryan Stradal<br />\n<br />\nCopies of the book are available for check out at the library. The book club reads a variety of fiction and non-fiction. All are welcome.
LOCATION:615 Phillips Blvd. Sauk City\, WI 53583
UID:e.1184.27071
SEQUENCE:3
DTSTAMP:20260421T061637Z
URL:http://members.saukprairie.com/events/details/book-club-09-13-2022-27071
END:VEVENT

END:VCALENDAR
