BEGIN:VCALENDAR
VERSION:2.0
PRODID:-//ChamberMaster//Event Calendar 2.0//EN
METHOD:PUBLISH
X-PUBLISHED-TTL:P3D
REFRESH-INTERVAL:P3D
CALSCALE:GREGORIAN
BEGIN:VEVENT
DTSTART:20201013T180000Z
DTEND:20201013T190000Z
X-MICROSOFT-CDO-ALLDAYEVENT:FALSE
SUMMARY:Book Club
DESCRIPTION:This month's read: My Brilliant Friend by Elena Ferrante\n\n\n\nCopies of the book are available for check out at the library and copies of the ebook are available on Hoopla. Go to hoopladigital.com to get started.\n\nThe book club reads a variety of fiction and non-fiction. All are welcome.\n\nBook Club will be held on the patio\, weather permitting\, but is subject to change. For the latest information contact Emily\, emily@saukcitylibrary.org or 608-643-8346.
X-ALT-DESC;FMTTYPE=text/html:<p>This month&#39\;s read:&nbsp\;<em>My Brilliant Friend</em> by Elena Ferrante<br />\n<br />\nCopies of the book are available for check out at the library and copies of the ebook are available on Hoopla. Go to hoopladigital.com to get started.<br />\nThe book club reads a variety of fiction and non-fiction. All are welcome.<br />\nBook Club will be held on the patio\, weather permitting\, but is subject to change. For the latest information contact Emily\, emily@saukcitylibrary.org or 608-643-8346.</p>\n
LOCATION:616 Phillips Blvd Sauk City\, WI 53583
UID:e.1184.26102
SEQUENCE:3
DTSTAMP:20260422T152052Z
URL:http://members.saukprairie.com/events/details/book-club-10-13-2020-26102
END:VEVENT

END:VCALENDAR
