BEGIN:VCALENDAR
VERSION:2.0
PRODID:-//ChamberMaster//Event Calendar 2.0//EN
METHOD:PUBLISH
X-PUBLISHED-TTL:P3D
REFRESH-INTERVAL:P3D
CALSCALE:GREGORIAN
BEGIN:VEVENT
DTSTART:20201110T190000Z
DTEND:20201110T200000Z
X-MICROSOFT-CDO-ALLDAYEVENT:FALSE
SUMMARY:Book Club
DESCRIPTION:November's Pick: Lottery by Patricia Wood\n\nCopies of the book are available to check out in the library. The book club reads a variety of fiction and nonfiction. Book Club will be held over Zoom. Contact Emily at emily@saukcitylibrary.org to get the link. All are welcome.
X-ALT-DESC;FMTTYPE=text/html:<p><span style="font-size:14px">November&rsquo\;s Pick: <em>Lottery</em> by Patricia Wood</span></p>\n\n<p><span style="font-size:14px"><span style="font-family:arial">Copies of the book are available to check out in the library. The book club reads a variety of fiction and nonfiction. Book Club will be held over Zoom. Contact Emily at </span><a href="mailto:emily@saukcitylibrary.org" style="text-decoration-line: none\;"><span style="color:rgb(17\, 85\, 204)\; font-family:arial">emily@saukcitylibrary.org</span></a><span style="font-family:arial"> to get the link. All are welcome.</span></span></p>\n
LOCATION:616 Phillips Blvd Sauk City\, WI 53583
UID:e.1184.26103
SEQUENCE:3
DTSTAMP:20260422T135216Z
URL:http://members.saukprairie.com/events/details/book-club-11-10-2020-26103
END:VEVENT

END:VCALENDAR
