BEGIN:VCALENDAR
VERSION:2.0
PRODID:-//ChamberMaster//Event Calendar 2.0//EN
METHOD:PUBLISH
X-PUBLISHED-TTL:P3D
REFRESH-INTERVAL:P3D
CALSCALE:GREGORIAN
BEGIN:VEVENT
DTSTART:20191112T190000Z
DTEND:20191112T200000Z
X-MICROSOFT-CDO-ALLDAYEVENT:FALSE
SUMMARY:Book Club
DESCRIPTION:This month's read: Orphan Train by Christina Baker Kline\n\nThe Book Club reads a variety of fiction and nonfiction. Copies of this month's selection are available for check out at the library. Questions? Call us at 608-643-8346. All are welcome.
X-ALT-DESC;FMTTYPE=text/html:<p><span style="font-size:14px">This month&#39\;s read: Orphan Train by Christina Baker Kline</span><br />\n<span style="background-color:rgb(255\, 255\, 255)\; font-family:helvetica\,arial\,sans-serif\; font-size:14px">The Book Club reads a variety of fiction and nonfiction.</span><span style="color:#000000"><span style="background-color:rgb(255\, 255\, 255)\; font-family:helvetica\,arial\,sans-serif\; font-size:14px">&nbsp\;</span></span><span style="font-size:14px">Copies of this month&#39\;s selection are available for check out at the library. Questions? Call us at 608-643-8346.&nbsp\;</span><span style="font-family:helvetica\,arial\,sans-serif\; font-size:14px">All are welcome.</span></p>\n
LOCATION:Sauk City Public Library 515 Water Street Sauk City\, WI 53583
UID:e.1184.22511
SEQUENCE:3
DTSTAMP:20260423T083520Z
URL:http://members.saukprairie.com/events/details/book-club-11-12-2019-22511
END:VEVENT

END:VCALENDAR
