BEGIN:VCALENDAR
VERSION:2.0
PRODID:-//ChamberMaster//Event Calendar 2.0//EN
METHOD:PUBLISH
X-PUBLISHED-TTL:P3D
REFRESH-INTERVAL:P3D
CALSCALE:GREGORIAN
BEGIN:VEVENT
DTSTART:20241112T190000Z
DTEND:20241112T200000Z
X-MICROSOFT-CDO-ALLDAYEVENT:FALSE
SUMMARY:Book Club
DESCRIPTION:November's Pick: Pineapple Street by by Jenny Jackson\n\nCopies of the book are available for check out at the library. The book club reads a variety of fiction and nonfiction. All are welcome.
X-ALT-DESC;FMTTYPE=text/html:November&rsquo\;s Pick: Pineapple Street by&nbsp\;by Jenny Jackson<br />\nCopies of the book are available for check out at the library. The book club reads a variety of fiction and nonfiction. All are welcome.
LOCATION:615 Phillips Blvd. Sauk City\, WI 53583
UID:e.1184.31396
SEQUENCE:3
DTSTAMP:20260419T131804Z
URL:http://members.saukprairie.com/events/details/book-club-11-12-2024-31396
END:VEVENT

END:VCALENDAR
