BEGIN:VCALENDAR
VERSION:2.0
PRODID:-//ChamberMaster//Event Calendar 2.0//EN
METHOD:PUBLISH
X-PUBLISHED-TTL:P3D
REFRESH-INTERVAL:P3D
CALSCALE:GREGORIAN
BEGIN:VEVENT
DTSTART:20201208T190000Z
DTEND:20201208T200000Z
X-MICROSOFT-CDO-ALLDAYEVENT:FALSE
SUMMARY:Book Club
DESCRIPTION:This month's pick: An American Marriage by Tayari Jones\n\nCheck out a copy at the library or download the ebook or audiobook from Hoopladigital.com. The book club reads a variety of fiction and nonfiction.\n\nBook Club will be held over Zoom. Email Emily at emily@saukcitylibrary.org for a link to the meeting. All are welcome.
X-ALT-DESC;FMTTYPE=text/html:<p>This month&#39\;s pick: <em>An American Marriage</em> by Tayari Jones<br />\nCheck out a copy at the library or download the ebook or audiobook from Hoopladigital.com. The book club reads a variety of fiction and nonfiction.<br />\nBook Club will be held over Zoom. Email Emily at emily@saukcitylibrary.org for a link to the meeting. All are welcome.</p>\n\n<p>&nbsp\;</p>\n
LOCATION:Book Club will be held over Zoom. Email Emily\, emaily@saukcitylibrary.org for a link to the meeting.
UID:e.1184.26104
SEQUENCE:3
DTSTAMP:20260422T134102Z
URL:http://members.saukprairie.com/events/details/book-club-12-08-2020-26104
END:VEVENT

END:VCALENDAR
