BEGIN:VCALENDAR
VERSION:2.0
PRODID:-//ChamberMaster//Event Calendar 2.0//EN
METHOD:PUBLISH
X-PUBLISHED-TTL:P3D
REFRESH-INTERVAL:P3D
CALSCALE:GREGORIAN
BEGIN:VEVENT
DTSTART:20221213T190000Z
DTEND:20221213T200000Z
X-MICROSOFT-CDO-ALLDAYEVENT:FALSE
SUMMARY:Book Club
DESCRIPTION:December's Pick: Send for Me by Lauren Fox\n\n\n\nCopies of the book are available for check out at the library. The audiobook is available for download at hoopladigital.com with your George Culver Community Library card. The book club reads a variety of fiction and nonfiction. All are welcome.
X-ALT-DESC;FMTTYPE=text/html:December&rsquo\;s Pick: Send for Me by Lauren Fox<br />\n<br />\nCopies of the book are available for check out at the library. The audiobook is available for download at hoopladigital.com with your George Culver Community Library card. The book club reads a variety of fiction and nonfiction. All are welcome.
LOCATION:615 Phillips Blvd. Sauk City\, WI 53583
UID:e.1184.27074
SEQUENCE:3
DTSTAMP:20260421T004154Z
URL:http://members.saukprairie.com/events/details/book-club-12-13-2022-27074
END:VEVENT

END:VCALENDAR
