BEGIN:VCALENDAR
VERSION:2.0
PRODID:-//ChamberMaster//Event Calendar 2.0//EN
METHOD:PUBLISH
X-PUBLISHED-TTL:P3D
REFRESH-INTERVAL:P3D
CALSCALE:GREGORIAN
BEGIN:VEVENT
DTSTART:20161027T180000Z
DTEND:20161027T190000Z
X-MICROSOFT-CDO-ALLDAYEVENT:FALSE
SUMMARY:Book Club Goes Big!
DESCRIPTION:October's Selection: Evicted by Matthew Desmond\nJoin us as we delve into this year's Big Read Book! Copies of the book are available for check-out at the library. This book club reads a variety of fiction and nonfiction. All are welcome.
X-ALT-DESC;FMTTYPE=text/html:<p><strong>October&rsquo\;s Selection:</strong><span style="background-color:transparent\; color:rgb(0\, 0\, 0)\; font-family:georgia\; font-size:16px"> </span><em>Evicted</em><span style="background-color:transparent\; color:rgb(0\, 0\, 0)\; font-family:georgia\; font-size:16px"> by Matthew Desmond</span></p>\n<span style="background-color:transparent\; color:rgb(0\, 0\, 0)\; font-family:georgia\; font-size:16px">Join us as we delve into this year&rsquo\;s Big Read Book! Copies of the book are available for check-out at the library. This book club reads a variety of fiction and nonfiction. All are welcome. </span>
LOCATION:Sauk City Public Library 515 Water St. Sauk City\, WI
UID:e.1184.9397
SEQUENCE:3
DTSTAMP:20260425T192210Z
URL:http://members.saukprairie.com/events/details/book-club-goes-big-9397
END:VEVENT

END:VCALENDAR
