BEGIN:VCALENDAR
VERSION:2.0
PRODID:-//ChamberMaster//Event Calendar 2.0//EN
METHOD:PUBLISH
X-PUBLISHED-TTL:P3D
REFRESH-INTERVAL:P3D
CALSCALE:GREGORIAN
BEGIN:VEVENT
DTSTART:20230727T170000Z
DTEND:20230727T170000Z
X-MICROSOFT-CDO-ALLDAYEVENT:FALSE
SUMMARY:Book Club: The Gifts of Imperfection by Brene Brown
DESCRIPTION:Join our next book club\, The Gifts of Imperfection on July 27 at Noon.\n\nIn The Gifts of Imperfection\, Bren  Brown\, Ph.D.\, a leading expert on shame\, authenticity\, and belonging\, shares her ten guideposts. She engages our minds\, hearts\, and spirits as she explores how we can cultivate the courage\, compassion\, and connection to wake up in the morning and think\, no matter what gets done and how much is left undone\, I am enough
X-ALT-DESC;FMTTYPE=text/html:<div class="xdj266r x11i5rnm xat24cr x1mh8g0r x1vvkbs" style="margin: 0px\; overflow-wrap: break-word\; font-family: &quot\;Segoe UI Historic&quot\;\, &quot\;Segoe UI&quot\;\, Helvetica\, Arial\, sans-serif\; color: rgb(5\, 5\, 5)\; font-size: 15px\;">Join our next book club\, The Gifts of Imperfection on July 27 at Noon.</div>\n\n<div class="x11i5rnm xat24cr x1mh8g0r x1vvkbs xtlvy1s" style="margin: 0.5em 0px 0px\; overflow-wrap: break-word\; font-family: &quot\;Segoe UI Historic&quot\;\, &quot\;Segoe UI&quot\;\, Helvetica\, Arial\, sans-serif\; color: rgb(5\, 5\, 5)\; font-size: 15px\;">In The Gifts of Imperfection\, Bren&eacute\; Brown\, Ph.D.\, a leading expert on shame\, authenticity\, and belonging\, shares her ten guideposts. She engages our minds\, hearts\, and spirits as she explores how we can cultivate the courage\, compassion\, and connection to wake up in the morning and think\, no matter what gets done and how much is left undone\, I am enough</div>\n
LOCATION:Online Event For more information\, contact (608) 643-7899 or go to their website at deancare.com
UID:e.1184.30903
SEQUENCE:3
DTSTAMP:20260420T103103Z
URL:http://members.saukprairie.com/events/details/book-club-the-gifts-of-imperfection-by-brene-brown-30903
END:VEVENT

END:VCALENDAR
