BEGIN:VCALENDAR
VERSION:2.0
PRODID:-//ChamberMaster//Event Calendar 2.0//EN
METHOD:PUBLISH
X-PUBLISHED-TTL:P3D
REFRESH-INTERVAL:P3D
CALSCALE:GREGORIAN
BEGIN:VEVENT
DTSTART:20180830T180000Z
DTEND:20180830T220000Z
X-MICROSOFT-CDO-ALLDAYEVENT:FALSE
SUMMARY:Book Fair
DESCRIPTION:First day jitters?  A book is a great tool for kids to have in their backpacks!  They can read it on the bus\, or grab it at lunchtime!\n\n\n\nThe books will be for prek-5th grade level.
X-ALT-DESC;FMTTYPE=text/html:<span style="font-family:times new roman\,serif\;"><span style="font-size:12.0pt\;">First day jitters?&nbsp\; A book is a great tool for kids to have in their backpacks!&nbsp\; They can read it on the bus\, or grab it at lunchtime!</span></span><br />\n<br />\nThe books will be for prek-5th grade level.&nbsp\;
LOCATION:Bridges Elementary School
UID:e.1184.20908
SEQUENCE:3
DTSTAMP:20260424T065300Z
URL:http://members.saukprairie.com/events/details/book-fair-20908
END:VEVENT

END:VCALENDAR
