BEGIN:VCALENDAR
VERSION:2.0
PRODID:-//ChamberMaster//Event Calendar 2.0//EN
METHOD:PUBLISH
X-PUBLISHED-TTL:P3D
REFRESH-INTERVAL:P3D
CALSCALE:GREGORIAN
BEGIN:VEVENT
DTSTART:20180714T180000Z
DTEND:20180714T190000Z
X-MICROSOFT-CDO-ALLDAYEVENT:FALSE
SUMMARY:Book Release: Darcy Miller's Margot and Mateo Save the World
DESCRIPTION:Local Author Darcy Miller is out with a new book so we are going to launch it with style!\n\n\n\n \n\n\n\nHere's some things you can look forward to:\n\n\n\n- Author Reading and Signing\n\n\n\n- Alien Crafts\n\n\n\n- Light Refreshments\n\n\n\n- Temporary Tattoos\n\n\n\n \n\n\n\nCopies of Margot and Mateo Save the World will be available for purchase at the event.
X-ALT-DESC;FMTTYPE=text/html:<div>\n<div><span style="font-family:inherit">Local Author Darcy Miller is out with a new book so we are going to launch it with style!</span></div>\n</div>\n\n<div>\n<div>&nbsp\;</div>\n</div>\n\n<div>\n<div><span style="font-family:inherit">Here&#39\;s some things you can look forward to:</span></div>\n</div>\n\n<div>\n<div><span style="font-family:inherit">- Author Reading and Signing</span></div>\n</div>\n\n<div>\n<div><span style="font-family:inherit">- Alien Crafts</span></div>\n</div>\n\n<div>\n<div><span style="font-family:inherit">- Light Refreshments</span></div>\n</div>\n\n<div>\n<div><span style="font-family:inherit">- Temporary Tattoos</span></div>\n</div>\n\n<div>\n<div>&nbsp\;</div>\n</div>\n\n<div>\n<div><span style="font-family:inherit">Copies of <em>Margot and Mateo Save the World</em> will be available for purchase at the event.</span></div>\n</div>\n
LOCATION:515 Water St Sauk City\, WI 53583
UID:e.1184.18391
SEQUENCE:3
DTSTAMP:20260424T101013Z
URL:http://members.saukprairie.com/events/details/book-release-darcy-miller-s-margot-and-mateo-save-the-world-18391
END:VEVENT

END:VCALENDAR
