BEGIN:VCALENDAR
VERSION:2.0
PRODID:-//ChamberMaster//Event Calendar 2.0//EN
METHOD:PUBLISH
X-PUBLISHED-TTL:P3D
REFRESH-INTERVAL:P3D
CALSCALE:GREGORIAN
BEGIN:VEVENT
DTSTART:20160411T140000Z
DTEND:20160412T010000Z
X-MICROSOFT-CDO-ALLDAYEVENT:FALSE
SUMMARY:Book Sale
DESCRIPTION:Browse hundreds of books and movies for all ages at reasonable prices. New items are added all of the time. The sale is in the library's lower level. All proceeds benefit the library via the Friends of the Sauk City Library. Donations are always welcome!
X-ALT-DESC;FMTTYPE=text/html:Browse hundreds of books and movies for all ages at reasonable prices. New items are added all of the time. The sale is in the library&rsquo\;s lower level. All proceeds benefit the library via the Friends of the Sauk City Library. Donations are always welcome!
LOCATION:Sauk City Public Library (lower level) 515 Water St. Sauk City\, WI
UID:e.1184.4770
SEQUENCE:3
DTSTAMP:20260426T033446Z
URL:http://members.saukprairie.com/events/details/book-sale-04-11-2016-4770
END:VEVENT

END:VCALENDAR
