BEGIN:VCALENDAR
VERSION:2.0
PRODID:-//ChamberMaster//Event Calendar 2.0//EN
METHOD:PUBLISH
X-PUBLISHED-TTL:P3D
REFRESH-INTERVAL:P3D
CALSCALE:GREGORIAN
BEGIN:VEVENT
DTSTART:20180518T140000Z
DTEND:20180518T220000Z
X-MICROSOFT-CDO-ALLDAYEVENT:FALSE
SUMMARY:Book Sale
DESCRIPTION:The Friends of the Ruth Culver Community Library's spring book sale will be held in the library community room Friday\, May 18\, from 9:00 a.m. to 5:00 p.m. and Saturday\, May 19\, 9:00 a.m. to 1:00 p.m. Volunteers are also needed!
X-ALT-DESC;FMTTYPE=text/html:The Friends of the Ruth Culver Community Library&#39\;s spring book sale will be held in the library community room Friday\, May 18\, from 9:00 a.m. to 5:00 p.m. and Saturday\, May 19\, 9:00 a.m. to 1:00 p.m. Volunteers are also needed!
LOCATION:Ruth Culver Community Library 540 Water Street Prairie du Sac\, WI 53578
UID:e.1184.13963
SEQUENCE:3
DTSTAMP:20260424T125919Z
URL:http://members.saukprairie.com/events/details/book-sale-05-18-2018-13963
END:VEVENT

END:VCALENDAR
