BEGIN:VCALENDAR
VERSION:2.0
PRODID:-//ChamberMaster//Event Calendar 2.0//EN
METHOD:PUBLISH
X-PUBLISHED-TTL:P3D
REFRESH-INTERVAL:P3D
CALSCALE:GREGORIAN
BEGIN:VEVENT
DTSTART:20170829T230000Z
DTEND:20170830T010000Z
X-MICROSOFT-CDO-ALLDAYEVENT:FALSE
SUMMARY:Book to Movie Night
DESCRIPTION:Watch a movie based on a book! Popcorn provided by the Friends of the Ruth Culver Community Library. This event is appropriate for adults and high school students.
X-ALT-DESC;FMTTYPE=text/html:Watch a movie based on a book! Popcorn provided by the Friends of the Ruth Culver Community Library. This event is appropriate for adults and high school students.
LOCATION:Ruth Culver Community Library 540 Water Street\, Prairie du Sac
UID:e.1184.11692
SEQUENCE:3
DTSTAMP:20260425T015043Z
URL:http://members.saukprairie.com/events/details/book-to-movie-night-11692
END:VEVENT

END:VCALENDAR
