BEGIN:VCALENDAR
VERSION:2.0
PRODID:-//ChamberMaster//Event Calendar 2.0//EN
METHOD:PUBLISH
X-PUBLISHED-TTL:P3D
REFRESH-INTERVAL:P3D
CALSCALE:GREGORIAN
BEGIN:VEVENT
DTSTART:20190130T150000Z
DTEND:20190130T160000Z
X-MICROSOFT-CDO-ALLDAYEVENT:FALSE
SUMMARY:Books and Beyond Storytime
DESCRIPTION:Stories\, songs\, and activities are offered to children ages 5 and younger with their caregiver in the library's lower level. Sessions last approximately 40 minutes. Stories and songs take the first 20 minutes with 20 minutes of crafts and activities.
X-ALT-DESC;FMTTYPE=text/html:Stories\, songs\, and activities are offered to children ages 5 and younger with their caregiver in the library&#39\;s lower level. Sessions last approximately 40 minutes. Stories and songs take the first 20 minutes with 20 minutes of crafts and activities.
LOCATION:Sauk City Library 515 Water St Sauk City\, WI 53583
UID:e.1184.21643
SEQUENCE:3
DTSTAMP:20260423T230320Z
URL:http://members.saukprairie.com/events/details/books-and-beyond-storytime-01-30-2019-21643
END:VEVENT

END:VCALENDAR
