BEGIN:VCALENDAR
VERSION:2.0
PRODID:-//ChamberMaster//Event Calendar 2.0//EN
METHOD:PUBLISH
X-PUBLISHED-TTL:P3D
REFRESH-INTERVAL:P3D
CALSCALE:GREGORIAN
BEGIN:VEVENT
DTSTART:20210929T140000Z
DTEND:20210929T143000Z
X-MICROSOFT-CDO-ALLDAYEVENT:FALSE
SUMMARY:Books and Beyond Storytime
DESCRIPTION:Children and their caregivers join Miss Becky for stories\, songs and smiles! Storytime has been crafted for children 5 and under\, but all ages are welcome. Registration is required\; attendance is limited to 19 people. Pandemic safety guidelines will be followed. Contact the library\, info@saukcitylibrary.org or 608-643-8346\, to sign up.
X-ALT-DESC;FMTTYPE=text/html:Children and their caregivers join Miss Becky for stories\, songs and smiles! Storytime has been crafted for children 5 and under\, but all ages are welcome. Registration is required\; attendance is limited to 19 people. Pandemic safety guidelines will be followed. Contact the library\, info@saukcitylibrary.org or 608-643-8346\, to sign up.
LOCATION:
UID:e.1184.26839
SEQUENCE:3
DTSTAMP:20260421T231110Z
URL:http://members.saukprairie.com/events/details/books-and-beyond-storytime-09-29-2021-26839
END:VEVENT

END:VCALENDAR
