BEGIN:VCALENDAR
VERSION:2.0
PRODID:-//ChamberMaster//Event Calendar 2.0//EN
METHOD:PUBLISH
X-PUBLISHED-TTL:P3D
REFRESH-INTERVAL:P3D
CALSCALE:GREGORIAN
BEGIN:VEVENT
DTSTART:20181001T150000Z
DTEND:20181001T160000Z
X-MICROSOFT-CDO-ALLDAYEVENT:FALSE
SUMMARY:Books and Beyond Storytime at the Riviera Bowl
DESCRIPTION:Storytime is on the move! Join us at the Riviera Bowl for this special storytime. There will be stories\, songs\, activities. and free bowling for children under 5 and their caregivers.
X-ALT-DESC;FMTTYPE=text/html:Storytime is on the move! Join us at the Riviera Bowl for this special storytime. There will be stories\, songs\, activities. and free bowling for children under 5 and their caregivers.&nbsp\;
LOCATION:51 Polk Street\, Sauk City\, WI 53583
UID:e.1184.20791
SEQUENCE:3
DTSTAMP:20260424T050943Z
URL:http://members.saukprairie.com/events/details/books-and-beyond-storytime-10-01-2018-20791
END:VEVENT

END:VCALENDAR
