BEGIN:VCALENDAR
VERSION:2.0
PRODID:-//ChamberMaster//Event Calendar 2.0//EN
METHOD:PUBLISH
X-PUBLISHED-TTL:P3D
REFRESH-INTERVAL:P3D
CALSCALE:GREGORIAN
BEGIN:VEVENT
DTSTART:20221116T160000Z
DTEND:20221116T163000Z
X-MICROSOFT-CDO-ALLDAYEVENT:FALSE
SUMMARY:Books and Beyond Storytime
DESCRIPTION:Children and their caregivers can join Miss Nicole at the library once a week on Mondays or Wednesdays for stories\, songs and smiles! Storytime has been crafted for children 5 and under\, but all ages are welcome.
X-ALT-DESC;FMTTYPE=text/html:Children and their caregivers can join Miss Nicole at the library once a week on Mondays or Wednesdays for stories\, songs and smiles! Storytime has been crafted for children 5 and under\, but all ages are welcome.&nbsp\;
LOCATION:615 Phillips Blvd. Sauk City\, WI 53583
UID:e.1184.28631
SEQUENCE:3
DTSTAMP:20260421T032932Z
URL:http://members.saukprairie.com/events/details/books-and-beyond-storytime-11-16-2022-28631
END:VEVENT

END:VCALENDAR
