BEGIN:VCALENDAR
VERSION:2.0
PRODID:-//ChamberMaster//Event Calendar 2.0//EN
METHOD:PUBLISH
X-PUBLISHED-TTL:P3D
REFRESH-INTERVAL:P3D
CALSCALE:GREGORIAN
BEGIN:VEVENT
DTSTART:20210510T153000Z
DTEND:20210510T160000Z
X-MICROSOFT-CDO-ALLDAYEVENT:FALSE
SUMMARY:Books and Blankets Storytime
DESCRIPTION:We're doing Storytime outside! Bring a blanket for your family and enjoy stories and fun under the cottonwood tree. Storytime is designed for children 5 and under\, but everyone is welcome. Weather permitting\, registration is required. Pandemic safety guidelines will be followed. Contact the library for details and to sign up.
X-ALT-DESC;FMTTYPE=text/html:&nbsp\;We&#39\;re doing Storytime outside! Bring a blanket for your family and enjoy stories and fun under the cottonwood tree. Storytime is designed for children 5 and under\, but everyone is welcome. Weather permitting\, registration is required. Pandemic safety guidelines will be followed. Contact the library for details and to sign up.
LOCATION:615 Phillips Blvd Sauk City\, WI 53583
UID:e.1184.26561
SEQUENCE:3
DTSTAMP:20260422T051756Z
URL:http://members.saukprairie.com/events/details/books-and-blankets-storytime-05-10-2021-26561
END:VEVENT

END:VCALENDAR
