BEGIN:VCALENDAR
VERSION:2.0
PRODID:-//ChamberMaster//Event Calendar 2.0//EN
METHOD:PUBLISH
X-PUBLISHED-TTL:P3D
REFRESH-INTERVAL:P3D
CALSCALE:GREGORIAN
BEGIN:VEVENT
DTSTART:20230118T160000Z
DTEND:20230118T163000Z
X-MICROSOFT-CDO-ALLDAYEVENT:FALSE
SUMMARY:Books & Beyond Storytime
DESCRIPTION:Come to storytime once a week for stories\, songs and activities for young children with a caregiver! Storytime has been crafted for children 5 and under\, but all ages are welcome.
X-ALT-DESC;FMTTYPE=text/html:Come to storytime once a week for stories\, songs and activities for young children with a caregiver! Storytime has been crafted for children 5 and under\, but all ages are welcome.
LOCATION:615 Phillips Blvd. Sauk City\, WI 53583
UID:e.1184.28854
SEQUENCE:3
DTSTAMP:20260421T004156Z
URL:http://members.saukprairie.com/events/details/books-beyond-storytime-01-18-2023-28854
END:VEVENT

END:VCALENDAR
