BEGIN:VCALENDAR
VERSION:2.0
PRODID:-//ChamberMaster//Event Calendar 2.0//EN
METHOD:PUBLISH
X-PUBLISHED-TTL:P3D
REFRESH-INTERVAL:P3D
CALSCALE:GREGORIAN
BEGIN:VEVENT
DTSTART:20200127T160000Z
DTEND:20200127T163000Z
X-MICROSOFT-CDO-ALLDAYEVENT:FALSE
SUMMARY:Books & Beyond Storytime
DESCRIPTION:Stories\, songs\, and crafts are offered to children ages 5 and younger attended by a caregiver. Older siblings are also welcome. Sessions will be approximately 30 minutes.
X-ALT-DESC;FMTTYPE=text/html:<p>Stories\, songs\, and crafts are offered to children ages 5 and younger attended by a caregiver. Older siblings are also welcome. Sessions will be approximately 30 minutes.</p>\n
LOCATION:515 Water St. Sauk City\, WI
UID:e.1184.23814
SEQUENCE:3
DTSTAMP:20260423T070452Z
URL:http://members.saukprairie.com/events/details/books-beyond-storytime-01-27-2020-23814
END:VEVENT

END:VCALENDAR
