BEGIN:VCALENDAR
VERSION:2.0
PRODID:-//ChamberMaster//Event Calendar 2.0//EN
METHOD:PUBLISH
X-PUBLISHED-TTL:P3D
REFRESH-INTERVAL:P3D
CALSCALE:GREGORIAN
BEGIN:VEVENT
DTSTART:20190327T140000Z
DTEND:20190327T150000Z
X-MICROSOFT-CDO-ALLDAYEVENT:FALSE
SUMMARY:Books & Beyond Storytime
DESCRIPTION:Stories\, songs\, and activities are offered to children ages 5 and younger with their caregiver in the library's lower level. Sessions last approximately 40 minutes. Stories and songs last 20 minutes followed by 20 minutes of various activities. Stick around on Wednesdays for Open Play until 11:00 a.m.
X-ALT-DESC;FMTTYPE=text/html:<p>Stories\, songs\, and activities are offered to children ages 5 and younger with their caregiver in the library&#39\;s lower level. Sessions last approximately 40 minutes. Stories and songs last 20 minutes followed by 20 minutes of various activities. Stick around on Wednesdays for Open Play until 11:00 a.m.</p>\n
LOCATION:515 Water St. Sauk City\, WI
UID:e.1184.22115
SEQUENCE:3
DTSTAMP:20260423T202609Z
URL:http://members.saukprairie.com/events/details/books-beyond-storytime-03-27-2019-22115
END:VEVENT

END:VCALENDAR
